BEGIN:VCALENDAR
VERSION:2.0
PRODID:-//Adham Somantrie/AyoLari.in//NONSGML v1.0//EN
CALSCALE:GREGORIAN
BEGIN:VEVENT
UID:b6cda17abb967ed28ec9610137aa45f7
DTSTAMP:20260421T005617Z
LOCATION:Makassar
DESCRIPTION:ayolari.in
URL;VALUE=URI:https://ayolari.in/lomba/makassar-half-marathon
SUMMARY:Makassar Half Marathon
DTSTART;VALUE=DATE;TZID=ASIA-JAKARTA:20221002
DTEND;VALUE=DATE;TZID=ASIA-JAKARTA:20221003
TRANSP:TRANSPARENT
END:VEVENT
END:VCALENDAR