BEGIN:VCALENDAR
VERSION:2.0
PRODID:-//Adham Somantrie/AyoLari.in//NONSGML v1.0//EN
CALSCALE:GREGORIAN
BEGIN:VEVENT
UID:49c0b9d84c2a16fcaf9d25694fda75e1
DTSTAMP:20260421T203649Z
LOCATION:Virtual Run
DESCRIPTION:ayolari.in
URL;VALUE=URI:https://ayolari.in/lomba/ku-lari-ke-hutan
SUMMARY:Ku Lari Ke Hutan
DTSTART;VALUE=DATE;TZID=ASIA-JAKARTA:20220807
DTEND;VALUE=DATE;TZID=ASIA-JAKARTA:20220822
TRANSP:TRANSPARENT
END:VEVENT
END:VCALENDAR