BEGIN:VCALENDAR
VERSION:2.0
PRODID:-//Adham Somantrie/AyoLari.in//NONSGML v1.0//EN
CALSCALE:GREGORIAN
BEGIN:VEVENT
UID:e58aea67b01fa747687f038dfde066f6
DTSTAMP:20260421T005451Z
LOCATION:Jakarta
DESCRIPTION:ayolari.in
URL;VALUE=URI:https://ayolari.in/lomba/run-for-zoo-2022
SUMMARY:Run For Zoo 2022
DTSTART;VALUE=DATE;TZID=ASIA-JAKARTA:20220806
DTEND;VALUE=DATE;TZID=ASIA-JAKARTA:20220807
TRANSP:TRANSPARENT
END:VEVENT
END:VCALENDAR