BEGIN:VCALENDAR
VERSION:2.0
PRODID:-//Adham Somantrie/AyoLari.in//NONSGML v1.0//EN
CALSCALE:GREGORIAN
BEGIN:VEVENT
UID:ffedf5be3a86e2ee281d54cdc97bc1cf
DTSTAMP:20260420T051223Z
LOCATION:Virtual Run
DESCRIPTION:ayolari.in
URL;VALUE=URI:https://ayolari.in/lomba/ajaktemanmu-ultima-race-2022-by-bca-life
SUMMARY:#AjakTemanmu Ultima Race 2022 by BCA Life
DTSTART;VALUE=DATE;TZID=ASIA-JAKARTA:20220716
DTEND;VALUE=DATE;TZID=ASIA-JAKARTA:20220717
TRANSP:TRANSPARENT
END:VEVENT
END:VCALENDAR