BEGIN:VCALENDAR
VERSION:2.0
PRODID:-//Adham Somantrie/AyoLari.in//NONSGML v1.0//EN
CALSCALE:GREGORIAN
BEGIN:VEVENT
UID:fa2431bf9d65058fe34e9713e32d60e6
DTSTAMP:20260420T040648Z
LOCATION:Virtual Run
DESCRIPTION:ayolari.in
URL;VALUE=URI:https://ayolari.in/lomba/amesco-virtual-race-2022
SUMMARY:AMESCO VIRTUAL RACE 2022
DTSTART;VALUE=DATE;TZID=ASIA-JAKARTA:20220328
DTEND;VALUE=DATE;TZID=ASIA-JAKARTA:20220402
TRANSP:TRANSPARENT
END:VEVENT
END:VCALENDAR