BEGIN:VCALENDAR
VERSION:2.0
PRODID:-//Adham Somantrie/AyoLari.in//NONSGML v1.0//EN
CALSCALE:GREGORIAN
BEGIN:VEVENT
UID:c2ba1bc54b239208cb37b901c0d3b363
DTSTAMP:20260420T235739Z
LOCATION:Virtual Run
DESCRIPTION:ayolari.in
URL;VALUE=URI:https://ayolari.in/lomba/eduversal-charity-virtual-run-gowes-2021
SUMMARY:Eduversal Charity Virtual Run & Gowes 2021
DTSTART;VALUE=DATE;TZID=ASIA-JAKARTA:20211225
DTEND;VALUE=DATE;TZID=ASIA-JAKARTA:20220105
TRANSP:TRANSPARENT
END:VEVENT
END:VCALENDAR