BEGIN:VCALENDAR
VERSION:2.0
PRODID:-//Adham Somantrie/AyoLari.in//NONSGML v1.0//EN
CALSCALE:GREGORIAN
BEGIN:VEVENT
UID:38651c4450f87348fcbe1f992746a954
DTSTAMP:20260421T000520Z
LOCATION:Virtual Run
DESCRIPTION:ayolari.in
URL;VALUE=URI:https://ayolari.in/lomba/nusantarun-chapter-9-120-km-virtual-team-challenge-2021-71
SUMMARY:NusantaRun Chapter 9 120 KM Virtual Team Challenge 2021
DTSTART;VALUE=DATE;TZID=ASIA-JAKARTA:20211224
DTEND;VALUE=DATE;TZID=ASIA-JAKARTA:20220113
TRANSP:TRANSPARENT
END:VEVENT
END:VCALENDAR