BEGIN:VCALENDAR
VERSION:2.0
PRODID:-//Adham Somantrie/AyoLari.in//NONSGML v1.0//EN
CALSCALE:GREGORIAN
BEGIN:VEVENT
UID:ce6c92303f38d297e263c7180f03d402
DTSTAMP:20260421T000338Z
LOCATION:Virtual Run
DESCRIPTION:ayolari.in
URL;VALUE=URI:https://ayolari.in/lomba/nusantarun-chapter-9-120-km-virtual-challenge-2021-70
SUMMARY:NusantaRun Chapter 9 120 KM Virtual Challenge 2021
DTSTART;VALUE=DATE;TZID=ASIA-JAKARTA:20211224
DTEND;VALUE=DATE;TZID=ASIA-JAKARTA:20220113
TRANSP:TRANSPARENT
END:VEVENT
END:VCALENDAR