BEGIN:VCALENDAR
VERSION:2.0
PRODID:-//Adham Somantrie/AyoLari.in//NONSGML v1.0//EN
CALSCALE:GREGORIAN
BEGIN:VEVENT
UID:635440afdfc39fe37995fed127d7df4f
DTSTAMP:20260421T000222Z
LOCATION:Virtual Run
DESCRIPTION:ayolari.in
URL;VALUE=URI:https://ayolari.in/lomba/3d-virtual-run-walk
SUMMARY:3D Virtual Run/Walk
DTSTART;VALUE=DATE;TZID=ASIA-JAKARTA:20211203
DTEND;VALUE=DATE;TZID=ASIA-JAKARTA:20220104
TRANSP:TRANSPARENT
END:VEVENT
END:VCALENDAR