BEGIN:VCALENDAR
VERSION:2.0
PRODID:-//Adham Somantrie/AyoLari.in//NONSGML v1.0//EN
CALSCALE:GREGORIAN
BEGIN:VEVENT
UID:a07c2f3b3b907aaf8436a26c6d77f0a2
DTSTAMP:20260421T041440Z
LOCATION:Virtual Run
DESCRIPTION:ayolari.in
URL;VALUE=URI:https://ayolari.in/lomba/squid-virtual-run-christmas-edition
SUMMARY:Squid Virtual Run Christmas Edition
DTSTART;VALUE=DATE;TZID=ASIA-JAKARTA:20211222
DTEND;VALUE=DATE;TZID=ASIA-JAKARTA:20220116
TRANSP:TRANSPARENT
END:VEVENT
END:VCALENDAR