BEGIN:VCALENDAR
VERSION:2.0
PRODID:-//Adham Somantrie/AyoLari.in//NONSGML v1.0//EN
CALSCALE:GREGORIAN
BEGIN:VEVENT
UID:d1c38a09acc34845c6be3a127a5aacaf
DTSTAMP:20260420T234642Z
LOCATION:Jakarta
DESCRIPTION:ayolari.in
URL;VALUE=URI:https://ayolari.in/lomba/mnc-channels-light-run-star-wars-2015
SUMMARY:MNC Channels Light Run Star Wars 2015
DTSTART;VALUE=DATE;TZID=ASIA-JAKARTA:20150530
DTEND;VALUE=DATE;TZID=ASIA-JAKARTA:20150531
TRANSP:TRANSPARENT
END:VEVENT
END:VCALENDAR