BEGIN:VCALENDAR
VERSION:2.0
PRODID:-//Adham Somantrie/AyoLari.in//NONSGML v1.0//EN
CALSCALE:GREGORIAN
BEGIN:VEVENT
UID:90aef91f0d9e7c3be322bd7bae41617d
DTSTAMP:20260421T021017Z
LOCATION:Virtual Run
DESCRIPTION:ayolari.in
URL;VALUE=URI:https://ayolari.in/lomba/salman-marathon-fest
SUMMARY:Salman Marathon Fest
DTSTART;VALUE=DATE;TZID=ASIA-JAKARTA:20211212
DTEND;VALUE=DATE;TZID=ASIA-JAKARTA:20211220
TRANSP:TRANSPARENT
END:VEVENT
END:VCALENDAR