BEGIN:VCALENDAR
VERSION:2.0
PRODID:-//Adham Somantrie/AyoLari.in//NONSGML v1.0//EN
CALSCALE:GREGORIAN
BEGIN:VEVENT
UID:b0b79da57b95837f14be95aaa4d54cf8
DTSTAMP:20260421T005315Z
LOCATION:Virtual Run
DESCRIPTION:ayolari.in
URL;VALUE=URI:https://ayolari.in/lomba/salonpas-sport-10k-rundemi
SUMMARY:Salonpas Sport 10K RunDemi
DTSTART;VALUE=DATE;TZID=ASIA-JAKARTA:20211203
DTEND;VALUE=DATE;TZID=ASIA-JAKARTA:20211213
TRANSP:TRANSPARENT
END:VEVENT
END:VCALENDAR