BEGIN:VCALENDAR
VERSION:2.0
PRODID:-//Adham Somantrie/AyoLari.in//NONSGML v1.0//EN
CALSCALE:GREGORIAN
BEGIN:VEVENT
UID:6cd9313ed34ef58bad3fdd504355e72c
DTSTAMP:20260421T000110Z
LOCATION:Virtual Run
DESCRIPTION:ayolari.in
URL;VALUE=URI:https://ayolari.in/lomba/festival-kesehatan-astra-2021-69
SUMMARY:Festival Kesehatan Astra 2021
DTSTART;VALUE=DATE;TZID=ASIA-JAKARTA:20211106
DTEND;VALUE=DATE;TZID=ASIA-JAKARTA:20211115
TRANSP:TRANSPARENT
END:VEVENT
END:VCALENDAR