BEGIN:VCALENDAR
VERSION:2.0
PRODID:-//Adham Somantrie/AyoLari.in//NONSGML v1.0//EN
CALSCALE:GREGORIAN
BEGIN:VEVENT
UID:01eee509ee2f68dc6014898c309e86bf
DTSTAMP:20260420T082131Z
LOCATION:Magelang\, Central Java
DESCRIPTION:ayolari.in
URL;VALUE=URI:https://ayolari.in/lomba/borobudur-marathon-bank-jateng-tilik-candi-67
SUMMARY:Borobudur Marathon Bank Jateng Tilik Candi
DTSTART;VALUE=DATE;TZID=ASIA-JAKARTA:20211128
DTEND;VALUE=DATE;TZID=ASIA-JAKARTA:20211129
TRANSP:TRANSPARENT
END:VEVENT
END:VCALENDAR