BEGIN:VCALENDAR
VERSION:2.0
PRODID:-//Adham Somantrie/AyoLari.in//NONSGML v1.0//EN
CALSCALE:GREGORIAN
BEGIN:VEVENT
UID:443dec3062d0286986e21dc0631734c9
DTSTAMP:20260420T081741Z
LOCATION:Magelang\, Central Java
DESCRIPTION:ayolari.in
URL;VALUE=URI:https://ayolari.in/lomba/borobudur-marathon-elite-race-66
SUMMARY:Borobudur Marathon Elite Race
DTSTART;VALUE=DATE;TZID=ASIA-JAKARTA:20211127
DTEND;VALUE=DATE;TZID=ASIA-JAKARTA:20211128
TRANSP:TRANSPARENT
END:VEVENT
END:VCALENDAR