BEGIN:VCALENDAR
VERSION:2.0
PRODID:-//Adham Somantrie/AyoLari.in//NONSGML v1.0//EN
CALSCALE:GREGORIAN
BEGIN:VEVENT
UID:04048aeca2c0f5d84639358008ed2ae7
DTSTAMP:20260421T041740Z
LOCATION:Virtual Run
DESCRIPTION:ayolari.in
URL;VALUE=URI:https://ayolari.in/lomba/virtual-run-world-diabetes-day-2021
SUMMARY:Virtual Run World Diabetes Day 2021
DTSTART;VALUE=DATE;TZID=ASIA-JAKARTA:20211025
DTEND;VALUE=DATE;TZID=ASIA-JAKARTA:20211112
TRANSP:TRANSPARENT
END:VEVENT
END:VCALENDAR