BEGIN:VCALENDAR
VERSION:2.0
PRODID:-//Adham Somantrie/AyoLari.in//NONSGML v1.0//EN
CALSCALE:GREGORIAN
BEGIN:VEVENT
UID:934b535800b1cba8f96a5d72f72f1611
DTSTAMP:20260421T000338Z
LOCATION:Virtual Run
DESCRIPTION:ayolari.in
URL;VALUE=URI:https://ayolari.in/lomba/indosat-ooredoo-virtual-sport-2021
SUMMARY:Indosat Ooredoo Virtual Sport 2021
DTSTART;VALUE=DATE;TZID=ASIA-JAKARTA:20211101
DTEND;VALUE=DATE;TZID=ASIA-JAKARTA:20211122
TRANSP:TRANSPARENT
END:VEVENT
END:VCALENDAR