BEGIN:VCALENDAR
VERSION:2.0
PRODID:-//Adham Somantrie/AyoLari.in//NONSGML v1.0//EN
CALSCALE:GREGORIAN
BEGIN:VEVENT
UID:5938b4d054136e5d59ada6ec9c295d7a
DTSTAMP:20260420T235005Z
LOCATION:Virtual Run
DESCRIPTION:ayolari.in
URL;VALUE=URI:https://ayolari.in/lomba/ipb-virtual-run
SUMMARY:IPB VIRTUAL RUN
DTSTART;VALUE=DATE;TZID=ASIA-JAKARTA:20210916
DTEND;VALUE=DATE;TZID=ASIA-JAKARTA:20211004
TRANSP:TRANSPARENT
END:VEVENT
END:VCALENDAR