BEGIN:VCALENDAR
VERSION:2.0
PRODID:-//Adham Somantrie/AyoLari.in//NONSGML v1.0//EN
CALSCALE:GREGORIAN
BEGIN:VEVENT
UID:02e656adee09f8394b402d9958389b7d
DTSTAMP:20260420T234811Z
LOCATION:Virtual Run
DESCRIPTION:ayolari.in
URL;VALUE=URI:https://ayolari.in/lomba/harris-day-2021
SUMMARY:HARRIS Day 2021
DTSTART;VALUE=DATE;TZID=ASIA-JAKARTA:20211125
DTEND;VALUE=DATE;TZID=ASIA-JAKARTA:20211213
TRANSP:TRANSPARENT
END:VEVENT
END:VCALENDAR