BEGIN:VCALENDAR
VERSION:2.0
PRODID:-//Adham Somantrie/AyoLari.in//NONSGML v1.0//EN
CALSCALE:GREGORIAN
BEGIN:VEVENT
UID:01894d6f048493d2cacde3c579c315a3
DTSTAMP:20260421T000520Z
LOCATION:Virtual Run
DESCRIPTION:ayolari.in
URL;VALUE=URI:https://ayolari.in/lomba/gantarvelocity-your-5k-personal-best-challenge-62
SUMMARY:Gantarvelocity  Your 5K Personal Best Challenge
DTSTART;VALUE=DATE;TZID=ASIA-JAKARTA:20211003
DTEND;VALUE=DATE;TZID=ASIA-JAKARTA:20211004
TRANSP:TRANSPARENT
END:VEVENT
END:VCALENDAR