BEGIN:VCALENDAR
VERSION:2.0
PRODID:-//Adham Somantrie/AyoLari.in//NONSGML v1.0//EN
CALSCALE:GREGORIAN
BEGIN:VEVENT
UID:3323fe11e9595c09af38fe67567a9394
DTSTAMP:20260421T005705Z
LOCATION:Virtual Run
DESCRIPTION:ayolari.in
URL;VALUE=URI:https://ayolari.in/lomba/60k-run-ekiden-61
SUMMARY:60K Run Ekiden
DTSTART;VALUE=DATE;TZID=ASIA-JAKARTA:20211001
DTEND;VALUE=DATE;TZID=ASIA-JAKARTA:20211101
TRANSP:TRANSPARENT
END:VEVENT
END:VCALENDAR