BEGIN:VCALENDAR
VERSION:2.0
PRODID:-//Adham Somantrie/AyoLari.in//NONSGML v1.0//EN
CALSCALE:GREGORIAN
BEGIN:VEVENT
UID:1368ba1ab6ed38bb1f26f36673739d54
DTSTAMP:20260421T005618Z
LOCATION:Virtual Run
DESCRIPTION:ayolari.in
URL;VALUE=URI:https://ayolari.in/lomba/run-for-butterfly-children
SUMMARY:Run for Butterfly Children
DTSTART;VALUE=DATE;TZID=ASIA-JAKARTA:20211015
DTEND;VALUE=DATE;TZID=ASIA-JAKARTA:20211025
TRANSP:TRANSPARENT
END:VEVENT
END:VCALENDAR