BEGIN:VCALENDAR
VERSION:2.0
PRODID:-//Adham Somantrie/AyoLari.in//NONSGML v1.0//EN
CALSCALE:GREGORIAN
BEGIN:VEVENT
UID:cd3afef9b8b89558cd56638c3631868a
DTSTAMP:20260421T005439Z
LOCATION:Virtual Run
DESCRIPTION:ayolari.in
URL;VALUE=URI:https://ayolari.in/lomba/wonder-fighters-charity-virtual-race-2021
SUMMARY:Wonder Fighters Charity Virtual Race 2021
DTSTART;VALUE=DATE;TZID=ASIA-JAKARTA:20211002
DTEND;VALUE=DATE;TZID=ASIA-JAKARTA:20211018
TRANSP:TRANSPARENT
END:VEVENT
END:VCALENDAR