BEGIN:VCALENDAR
VERSION:2.0
PRODID:-//Adham Somantrie/AyoLari.in//NONSGML v1.0//EN
CALSCALE:GREGORIAN
BEGIN:VEVENT
UID:4aecfbe5d21e3f7912bf8eb29124423a
DTSTAMP:20260421T000338Z
LOCATION:Virtual Run
DESCRIPTION:ayolari.in
URL;VALUE=URI:https://ayolari.in/lomba/the-candle-clock-race-thru-time-seri-3
SUMMARY:The Candle Clock - Race Thru Time seri 3
DTSTART;VALUE=DATE;TZID=ASIA-JAKARTA:20211115
DTEND;VALUE=DATE;TZID=ASIA-JAKARTA:20211116
TRANSP:TRANSPARENT
END:VEVENT
END:VCALENDAR