BEGIN:VCALENDAR
VERSION:2.0
PRODID:-//Adham Somantrie/AyoLari.in//NONSGML v1.0//EN
CALSCALE:GREGORIAN
BEGIN:VEVENT
UID:fea9c11c4ad9a395a636ed944a28b51a
DTSTAMP:20260421T020950Z
LOCATION:Virtual Run
DESCRIPTION:ayolari.in
URL;VALUE=URI:https://ayolari.in/lomba/run-berlin-2021
SUMMARY:Run Berlin 2021
DTSTART;VALUE=DATE;TZID=ASIA-JAKARTA:20210912
DTEND;VALUE=DATE;TZID=ASIA-JAKARTA:20211004
TRANSP:TRANSPARENT
END:VEVENT
END:VCALENDAR