BEGIN:VCALENDAR
VERSION:2.0
PRODID:-//Adham Somantrie/AyoLari.in//NONSGML v1.0//EN
CALSCALE:GREGORIAN
BEGIN:VEVENT
UID:2d969e2cee8cfa07ce7ca0bb13c7a36d
DTSTAMP:20260420T234520Z
LOCATION:Virtual Run
DESCRIPTION:ayolari.in
URL;VALUE=URI:https://ayolari.in/lomba/kesaktian-pancasila
SUMMARY:Kesaktian Pancasila
DTSTART;VALUE=DATE;TZID=ASIA-JAKARTA:20210920
DTEND;VALUE=DATE;TZID=ASIA-JAKARTA:20211005
TRANSP:TRANSPARENT
END:VEVENT
END:VCALENDAR