BEGIN:VCALENDAR
VERSION:2.0
PRODID:-//Adham Somantrie/AyoLari.in//NONSGML v1.0//EN
CALSCALE:GREGORIAN
BEGIN:VEVENT
UID:e45823afe1e5120cec11fc4c379a0c67
DTSTAMP:20260421T000943Z
LOCATION:Virtual Run
DESCRIPTION:ayolari.in
URL;VALUE=URI:https://ayolari.in/lomba/run-ride-roam-virtual-run
SUMMARY:Run Ride Roam Virtual Run
DTSTART;VALUE=DATE;TZID=ASIA-JAKARTA:20210901
DTEND;VALUE=DATE;TZID=ASIA-JAKARTA:20210902
TRANSP:TRANSPARENT
END:VEVENT
END:VCALENDAR