BEGIN:VCALENDAR
VERSION:2.0
PRODID:-//Adham Somantrie/AyoLari.in//NONSGML v1.0//EN
CALSCALE:GREGORIAN
BEGIN:VEVENT
UID:5249ee8e0cff02ad6b4cc0ee0e50b7d1
DTSTAMP:20260421T005440Z
LOCATION:Virtual Run
DESCRIPTION:ayolari.in
URL;VALUE=URI:https://ayolari.in/lomba/iconic-virtual-run-alien-2021-series
SUMMARY:Iconic Virtual Run - Alien 2021 Series
DTSTART;VALUE=DATE;TZID=ASIA-JAKARTA:20210917
DTEND;VALUE=DATE;TZID=ASIA-JAKARTA:20210918
TRANSP:TRANSPARENT
END:VEVENT
END:VCALENDAR