BEGIN:VCALENDAR
VERSION:2.0
PRODID:-//Adham Somantrie/AyoLari.in//NONSGML v1.0//EN
CALSCALE:GREGORIAN
BEGIN:VEVENT
UID:6832a7b24bc06775d02b7406880b93fc
DTSTAMP:20260421T005313Z
LOCATION:Virtual Run
DESCRIPTION:ayolari.in
URL;VALUE=URI:https://ayolari.in/lomba/library-for-sumba-virtual-race-2021
SUMMARY:Library For Sumba Virtual Race 2021
DTSTART;VALUE=DATE;TZID=ASIA-JAKARTA:20210817
DTEND;VALUE=DATE;TZID=ASIA-JAKARTA:20210818
TRANSP:TRANSPARENT
END:VEVENT
END:VCALENDAR