BEGIN:VCALENDAR
VERSION:2.0
PRODID:-//Adham Somantrie/AyoLari.in//NONSGML v1.0//EN
CALSCALE:GREGORIAN
BEGIN:VEVENT
UID:ea119a40c1592979f51819b0bd38d39d
DTSTAMP:20260421T005314Z
LOCATION:Virtual Run
DESCRIPTION:ayolari.in
URL;VALUE=URI:https://ayolari.in/lomba/mafia-move-2021
SUMMARY:Mafia Move 2021
DTSTART;VALUE=DATE;TZID=ASIA-JAKARTA:20210823
DTEND;VALUE=DATE;TZID=ASIA-JAKARTA:20210824
TRANSP:TRANSPARENT
END:VEVENT
END:VCALENDAR