BEGIN:VCALENDAR
VERSION:2.0
PRODID:-//Adham Somantrie/AyoLari.in//NONSGML v1.0//EN
CALSCALE:GREGORIAN
BEGIN:VEVENT
UID:cdf1e288ca02272e717c9d5e4cb180bd
DTSTAMP:20260421T020711Z
LOCATION:Virtual Run
DESCRIPTION:ayolari.in
URL;VALUE=URI:https://ayolari.in/lomba/iconic-virtual-run-oriental-series
SUMMARY:Iconic Virtual Run - Oriental Series
DTSTART;VALUE=DATE;TZID=ASIA-JAKARTA:20210830
DTEND;VALUE=DATE;TZID=ASIA-JAKARTA:20210831
TRANSP:TRANSPARENT
END:VEVENT
END:VCALENDAR