BEGIN:VCALENDAR
VERSION:2.0
PRODID:-//Adham Somantrie/AyoLari.in//NONSGML v1.0//EN
CALSCALE:GREGORIAN
BEGIN:VEVENT
UID:71560ce98c8250ce57a6a970c9991a5f
DTSTAMP:20260420T235005Z
LOCATION:Virtual Run
DESCRIPTION:ayolari.in
URL;VALUE=URI:https://ayolari.in/lomba/iconic-virtual-run-wayang-series
SUMMARY:Iconic Virtual Run - Wayang Series
DTSTART;VALUE=DATE;TZID=ASIA-JAKARTA:20210822
DTEND;VALUE=DATE;TZID=ASIA-JAKARTA:20210823
TRANSP:TRANSPARENT
END:VEVENT
END:VCALENDAR