BEGIN:VCALENDAR
VERSION:2.0
PRODID:-//Adham Somantrie/AyoLari.in//NONSGML v1.0//EN
CALSCALE:GREGORIAN
BEGIN:VEVENT
UID:0a87257e5308197df43230edf4ad1dae
DTSTAMP:20260420T234930Z
LOCATION:Virtual Run
DESCRIPTION:ayolari.in
URL;VALUE=URI:https://ayolari.in/lomba/iconic-virtual-run-batik-series
SUMMARY:Iconic Virtual Run - Batik Series
DTSTART;VALUE=DATE;TZID=ASIA-JAKARTA:20210811
DTEND;VALUE=DATE;TZID=ASIA-JAKARTA:20210812
TRANSP:TRANSPARENT
END:VEVENT
END:VCALENDAR