BEGIN:VCALENDAR
VERSION:2.0
PRODID:-//Adham Somantrie/AyoLari.in//NONSGML v1.0//EN
CALSCALE:GREGORIAN
BEGIN:VEVENT
UID:b440509a0106086a67bc2ea9df0a1dab
DTSTAMP:20260420T234643Z
LOCATION:Virtual Run
DESCRIPTION:ayolari.in
URL;VALUE=URI:https://ayolari.in/lomba/indonesia-bersatu-virtual-race
SUMMARY:Indonesia Bersatu Virtual Race
DTSTART;VALUE=DATE;TZID=ASIA-JAKARTA:20210817
DTEND;VALUE=DATE;TZID=ASIA-JAKARTA:20210818
TRANSP:TRANSPARENT
END:VEVENT
END:VCALENDAR