BEGIN:VCALENDAR
VERSION:2.0
PRODID:-//Adham Somantrie/AyoLari.in//NONSGML v1.0//EN
CALSCALE:GREGORIAN
BEGIN:VEVENT
UID:00a03ec6533ca7f5c644d198d815329c
DTSTAMP:20260421T011538Z
LOCATION:Virtual Run
DESCRIPTION:ayolari.in
URL;VALUE=URI:https://ayolari.in/lomba/toss-tbc-virtual-run-ride-2021
SUMMARY:TOSS TBC Virtual Run & Ride 2021
DTSTART;VALUE=DATE;TZID=ASIA-JAKARTA:20210817
DTEND;VALUE=DATE;TZID=ASIA-JAKARTA:20210818
TRANSP:TRANSPARENT
END:VEVENT
END:VCALENDAR