BEGIN:VCALENDAR
VERSION:2.0
PRODID:-//Adham Somantrie/AyoLari.in//NONSGML v1.0//EN
CALSCALE:GREGORIAN
BEGIN:VEVENT
UID:d51b416788b6ee70eb0c381c06efc9f1
DTSTAMP:20260420T234642Z
LOCATION:Virtual Run
DESCRIPTION:ayolari.in
URL;VALUE=URI:https://ayolari.in/lomba/beb45-merdeka-race
SUMMARY:BEB45 Merdeka Race
DTSTART;VALUE=DATE;TZID=ASIA-JAKARTA:20210817
DTEND;VALUE=DATE;TZID=ASIA-JAKARTA:20211001
TRANSP:TRANSPARENT
END:VEVENT
END:VCALENDAR