BEGIN:VCALENDAR
VERSION:2.0
PRODID:-//Adham Somantrie/AyoLari.in//NONSGML v1.0//EN
CALSCALE:GREGORIAN
BEGIN:VEVENT
UID:169779d3852b32ce8b1a1724dbf5217d
DTSTAMP:20260421T111150Z
LOCATION:Virtual Run
DESCRIPTION:ayolari.in
URL;VALUE=URI:https://ayolari.in/lomba/allianz-sports-festival-2021
SUMMARY:Allianz Sports Festival 2021
DTSTART;VALUE=DATE;TZID=ASIA-JAKARTA:20210723
DTEND;VALUE=DATE;TZID=ASIA-JAKARTA:20210724
TRANSP:TRANSPARENT
END:VEVENT
END:VCALENDAR