BEGIN:VCALENDAR
VERSION:2.0
PRODID:-//Adham Somantrie/AyoLari.in//NONSGML v1.0//EN
CALSCALE:GREGORIAN
BEGIN:VEVENT
UID:bb1662b7c5f22a0f905fd59e718ca05e
DTSTAMP:20260421T041500Z
LOCATION:Virtual Run
DESCRIPTION:ayolari.in
URL;VALUE=URI:https://ayolari.in/lomba/riot-5th-anniversary-run
SUMMARY:RIOT 5th Anniversary Run
DTSTART;VALUE=DATE;TZID=ASIA-JAKARTA:20210801
DTEND;VALUE=DATE;TZID=ASIA-JAKARTA:20210802
TRANSP:TRANSPARENT
END:VEVENT
END:VCALENDAR