BEGIN:VCALENDAR
VERSION:2.0
PRODID:-//Adham Somantrie/AyoLari.in//NONSGML v1.0//EN
CALSCALE:GREGORIAN
BEGIN:VEVENT
UID:211c1e0b83b9c69fa9c4bdede203c1e3
DTSTAMP:20260420T234518Z
LOCATION:Virtual Run
DESCRIPTION:ayolari.in
URL;VALUE=URI:https://ayolari.in/lomba/irace-passport-virtual-race
SUMMARY:iRace Passport Virtual Race
DTSTART;VALUE=DATE;TZID=ASIA-JAKARTA:20210710
DTEND;VALUE=DATE;TZID=ASIA-JAKARTA:20210711
TRANSP:TRANSPARENT
END:VEVENT
END:VCALENDAR