BEGIN:VCALENDAR
VERSION:2.0
PRODID:-//Adham Somantrie/AyoLari.in//NONSGML v1.0//EN
CALSCALE:GREGORIAN
BEGIN:VEVENT
UID:d1a21da7bca4abff8b0b61b87597de73
DTSTAMP:20260421T041405Z
LOCATION:Virtual Run
DESCRIPTION:ayolari.in
URL;VALUE=URI:https://ayolari.in/lomba/merah-putih-vr-76
SUMMARY:Merah Putih VR 76
DTSTART;VALUE=DATE;TZID=ASIA-JAKARTA:20210815
DTEND;VALUE=DATE;TZID=ASIA-JAKARTA:20210816
TRANSP:TRANSPARENT
END:VEVENT
END:VCALENDAR