BEGIN:VCALENDAR
VERSION:2.0
PRODID:-//Adham Somantrie/AyoLari.in//NONSGML v1.0//EN
CALSCALE:GREGORIAN
BEGIN:VEVENT
UID:7bc1ec1d9c3426357e69acd5bf320061
DTSTAMP:20260421T001120Z
LOCATION:Virtual Run
DESCRIPTION:ayolari.in
URL;VALUE=URI:https://ayolari.in/lomba/the-hourglass-race-thru-time-seri-1
SUMMARY:The Hourglass - Race Thru Time Seri #1
DTSTART;VALUE=DATE;TZID=ASIA-JAKARTA:20210801
DTEND;VALUE=DATE;TZID=ASIA-JAKARTA:20210802
TRANSP:TRANSPARENT
END:VEVENT
END:VCALENDAR