BEGIN:VCALENDAR
VERSION:2.0
PRODID:-//Adham Somantrie/AyoLari.in//NONSGML v1.0//EN
CALSCALE:GREGORIAN
BEGIN:VEVENT
UID:9978b7063e297d84bb2ac8e46c1c845f
DTSTAMP:20260421T020737Z
LOCATION:Virtual Run
DESCRIPTION:ayolari.in
URL;VALUE=URI:https://ayolari.in/lomba/run-for-diabetes
SUMMARY:Run for Diabetes
DTSTART;VALUE=DATE;TZID=ASIA-JAKARTA:20211014
DTEND;VALUE=DATE;TZID=ASIA-JAKARTA:20211115
TRANSP:TRANSPARENT
END:VEVENT
END:VCALENDAR