BEGIN:VCALENDAR
VERSION:2.0
PRODID:-//Adham Somantrie/AyoLari.in//NONSGML v1.0//EN
CALSCALE:GREGORIAN
BEGIN:VEVENT
UID:88a839f2f6f1427879fc33ee4acf4f66
DTSTAMP:20260421T041500Z
LOCATION:Virtual Run
DESCRIPTION:ayolari.in
URL;VALUE=URI:https://ayolari.in/lomba/young-lions-virtual-run-2021
SUMMARY:Young Lions Virtual Run 2021
DTSTART;VALUE=DATE;TZID=ASIA-JAKARTA:20210718
DTEND;VALUE=DATE;TZID=ASIA-JAKARTA:20210719
TRANSP:TRANSPARENT
END:VEVENT
END:VCALENDAR