BEGIN:VCALENDAR
VERSION:2.0
PRODID:-//Adham Somantrie/AyoLari.in//NONSGML v1.0//EN
CALSCALE:GREGORIAN
BEGIN:VEVENT
UID:bd0cc810b580b35884bd9df37c0e8b0f
DTSTAMP:20260421T033440Z
LOCATION:Virtual Run
DESCRIPTION:ayolari.in
URL;VALUE=URI:https://ayolari.in/lomba/run-boston-2021
SUMMARY:Run Boston 2021
DTSTART;VALUE=DATE;TZID=ASIA-JAKARTA:20210725
DTEND;VALUE=DATE;TZID=ASIA-JAKARTA:20210726
TRANSP:TRANSPARENT
END:VEVENT
END:VCALENDAR