BEGIN:VCALENDAR
VERSION:2.0
PRODID:-//Adham Somantrie/AyoLari.in//NONSGML v1.0//EN
CALSCALE:GREGORIAN
BEGIN:VEVENT
UID:2596a54cdbb555cfd09cd5d991da0f55
DTSTAMP:20260421T054715Z
LOCATION:Virtual Run
DESCRIPTION:ayolari.in
URL;VALUE=URI:https://ayolari.in/lomba/the-sundial-race-thru-time-2
SUMMARY:The Sundial - Race Thru Time #2
DTSTART;VALUE=DATE;TZID=ASIA-JAKARTA:20210906
DTEND;VALUE=DATE;TZID=ASIA-JAKARTA:20210920
TRANSP:TRANSPARENT
END:VEVENT
END:VCALENDAR