BEGIN:VCALENDAR
VERSION:2.0
PRODID:-//Adham Somantrie/AyoLari.in//NONSGML v1.0//EN
CALSCALE:GREGORIAN
BEGIN:VEVENT
UID:c3e4035af2a1cde9f21e1ae1951ac80b
DTSTAMP:20260421T000110Z
LOCATION:Virtual Run
DESCRIPTION:ayolari.in
URL;VALUE=URI:https://ayolari.in/lomba/score-conquer-the-islands-series-challenge-okinawa-island
SUMMARY:SCORE Conquer the Islands Series Challenge - Okinawa Island
DTSTART;VALUE=DATE;TZID=ASIA-JAKARTA:20210615
DTEND;VALUE=DATE;TZID=ASIA-JAKARTA:20210616
TRANSP:TRANSPARENT
END:VEVENT
END:VCALENDAR