BEGIN:VCALENDAR
VERSION:2.0
PRODID:-//Adham Somantrie/AyoLari.in//NONSGML v1.0//EN
CALSCALE:GREGORIAN
BEGIN:VEVENT
UID:6e5025ccc7d638ae4e724da8938450a6
DTSTAMP:20260420T234643Z
LOCATION:Virtual Run
DESCRIPTION:ayolari.in
URL;VALUE=URI:https://ayolari.in/lomba/iconic-virtual-run-lucky-cat-series
SUMMARY:Iconic Virtual Run - Lucky Cat Series
DTSTART;VALUE=DATE;TZID=ASIA-JAKARTA:20210603
DTEND;VALUE=DATE;TZID=ASIA-JAKARTA:20210604
TRANSP:TRANSPARENT
END:VEVENT
END:VCALENDAR