BEGIN:VCALENDAR
VERSION:2.0
PRODID:-//Adham Somantrie/AyoLari.in//NONSGML v1.0//EN
CALSCALE:GREGORIAN
BEGIN:VEVENT
UID:86e78499eeb33fb9cac16b7555b50767
DTSTAMP:20260420T234837Z
LOCATION:Virtual Run
DESCRIPTION:ayolari.in
URL;VALUE=URI:https://ayolari.in/lomba/iconic-virtual-run-koi-series
SUMMARY:Iconic Virtual Run - Koi Series
DTSTART;VALUE=DATE;TZID=ASIA-JAKARTA:20210606
DTEND;VALUE=DATE;TZID=ASIA-JAKARTA:20210607
TRANSP:TRANSPARENT
END:VEVENT
END:VCALENDAR