BEGIN:VCALENDAR
VERSION:2.0
PRODID:-//Adham Somantrie/AyoLari.in//NONSGML v1.0//EN
CALSCALE:GREGORIAN
BEGIN:VEVENT
UID:ee26fc66b1369c7625333bedafbfcaf6
DTSTAMP:20260421T021109Z
LOCATION:Virtual Run
DESCRIPTION:ayolari.in
URL;VALUE=URI:https://ayolari.in/lomba/pelaribaik-milesformeals
SUMMARY:PelariBaik #MilesforMeals
DTSTART;VALUE=DATE;TZID=ASIA-JAKARTA:20210412
DTEND;VALUE=DATE;TZID=ASIA-JAKARTA:20210413
TRANSP:TRANSPARENT
END:VEVENT
END:VCALENDAR